BEGIN:VCALENDAR
VERSION:2.0
PRODID:-//wp-events-plugin.com//7.2.3.1//EN
TZID:America/Denver
X-WR-TIMEZONE:America/Denver
BEGIN:VEVENT
UID:17-11518@music.colostate.edu
DTSTART;TZID=America/Denver:20170430T160000
DTEND;TZID=America/Denver:20170430T180000
DTSTAMP:20170302T231610Z
URL:https://music.colostate.edu/events/world-percussion-ensemble-concert/
SUMMARY:World Percussion Ensemble Concert
DESCRIPTION:CSU’s world percussion ensembles perform a varied concert fea
 turing the calypso music of Trinidad/Tobago performed by the steel pan ban
 ds\, the ragtime era represented by the 1930s George Hamilton Green Rag Ba
 nd\, the Civil War Era Rope Drum Ensemble\, and the frame drums of the Mid
 dle Eastern Ensemble. “This concert\, with something for everyone\, show
 s the diversity in our terrific percussion world\,” said Dr. Eric Hollen
 beck\, percussion director.
ATTACH;FMTTYPE=image/jpeg:https://www.libarts.colostate.edu/music/wp-conte
 nt/uploads/sites/17/2015/02/Capture3.png
LOCATION:Griffin Concert Hall\, University Center for the Arts\, 1400 Remin
 gton St.\, Fort Collins\, CO\, 80523\, United States
GEO:40.5692704;-105.07477849999998
X-APPLE-STRUCTURED-LOCATION;VALUE=URI;X-ADDRESS=1400 Remington St.\, Fort C
 ollins\, CO\, 80523\, United States;X-APPLE-RADIUS=100;X-TITLE=Griffin Con
 cert Hall\, University Center for the Arts:geo:40.5692704,-105.07477849999
 998
END:VEVENT
BEGIN:VTIMEZONE
TZID:America/Denver
X-LIC-LOCATION:America/Denver
BEGIN:DAYLIGHT
DTSTART:20170312T030000
TZOFFSETFROM:-0700
TZOFFSETTO:-0600
TZNAME:MDT
END:DAYLIGHT
END:VTIMEZONE
END:VCALENDAR