BEGIN:VCALENDAR
VERSION:2.0
PRODID:-//wp-events-plugin.com//7.2.3.1//EN
TZID:America/Denver
X-WR-TIMEZONE:America/Denver
BEGIN:VEVENT
UID:17-19298@music.colostate.edu
DTSTART;TZID=America/Denver:20260503T180000
DTEND;TZID=America/Denver:20260503T200000
DTSTAMP:20260213T221621Z
URL:https://music.colostate.edu/events/world-percussion-ensemble-concert-4
 /
SUMMARY:World Percussion Ensemble Concert
DESCRIPTION:The World Percussion ensembles at CSU include the Brazilian Sam
 ba Ensembles\, G.H. Green Xylophone Ragtime Ensemble\, Civil War Rope Drum
  Ensemble\, and the Steel Drum Ensemble ala Trinidad and Tobago. The conce
 rt showcases a variety of instruments and styles.  
ATTACH;FMTTYPE=image/jpeg:https://www.libarts.colostate.edu/music/wp-conte
 nt/uploads/sites/17/2015/01/csu-university-center-arts-e1499958504368.jpg
CATEGORIES:College of Liberal Arts Featured Events
LOCATION:Griffin Concert Hall\, University Center for the Arts\, 1400 Remin
 gton St.\, Fort Collins\, CO\, 80523\, United States
GEO:40.5692704;-105.07477849999998
X-APPLE-STRUCTURED-LOCATION;VALUE=URI;X-ADDRESS=1400 Remington St.\, Fort C
 ollins\, CO\, 80523\, United States;X-APPLE-RADIUS=100;X-TITLE=Griffin Con
 cert Hall\, University Center for the Arts:geo:40.5692704,-105.07477849999
 998
END:VEVENT
BEGIN:VTIMEZONE
TZID:America/Denver
X-LIC-LOCATION:America/Denver
BEGIN:DAYLIGHT
DTSTART:20260308T030000
TZOFFSETFROM:-0700
TZOFFSETTO:-0600
TZNAME:MDT
END:DAYLIGHT
END:VTIMEZONE
END:VCALENDAR