BEGIN:VCALENDAR
VERSION:2.0
PRODID:-//wp-events-plugin.com//7.2.3.1//EN
TZID:America/Denver
X-WR-TIMEZONE:America/Denver
BEGIN:VEVENT
UID:17-5309@music.colostate.edu
DTSTART;TZID=America/Denver:20151209T170000
DTEND;TZID=America/Denver:20151209T183000
DTSTAMP:20150923T205248Z
URL:https://music.colostate.edu/events/woodwind-studio-recital/
SUMMARY:Woodwind Studio Recital
DESCRIPTION:Students from woodwind area and the studios of Wesley Ferreira\
 , Gary Moody\, Michele Stanley\, and Peter Sommer present classic and mode
 rn literature for chamber groups and soloists.
ATTACH;FMTTYPE=image/jpeg:https://www.libarts.colostate.edu/music/wp-conte
 nt/uploads/sites/17/2015/02/10548099_10152182463815966_6359112680035747802
 _o.jpg
LOCATION:Organ Recital Hall\, University Center for the Arts\, 1400 Remingo
 n St.\, Fort Collins\, CO\, 80524\, United States
GEO:40.5692704;-105.07477849999998
X-APPLE-STRUCTURED-LOCATION;VALUE=URI;X-ADDRESS=1400 Remingon St.\, Fort Co
 llins\, CO\, 80524\, United States;X-APPLE-RADIUS=100;X-TITLE=Organ Recita
 l Hall\, University Center for the Arts:geo:40.5692704,-105.07477849999998
END:VEVENT
BEGIN:VTIMEZONE
TZID:America/Denver
X-LIC-LOCATION:America/Denver
BEGIN:STANDARD
DTSTART:20151101T010000
TZOFFSETFROM:-0600
TZOFFSETTO:-0700
TZNAME:MST
END:STANDARD
END:VTIMEZONE
END:VCALENDAR