BEGIN:VCALENDAR
VERSION:2.0
PRODID:-//wp-events-plugin.com//7.2.3.1//EN
TZID:America/Denver
X-WR-TIMEZONE:America/Denver
BEGIN:VEVENT
UID:17-19287@music.colostate.edu
DTSTART;TZID=America/Denver:20260424T193000
DTEND;TZID=America/Denver:20260424T213000
DTSTAMP:20260113T182645Z
URL:https://music.colostate.edu/events/wind-symphony-concert-enigma/
SUMMARY:Wind Symphony Concert: Enigma!
DESCRIPTION:Enigma! \nFeaturing graduate student conductors David Davis an
 d Amanda Manning along with guest soloists Joel Bacon\, Organ\, Andrew
 Rutten\, Bass Clarinet and Dan Goble\, Alto Saxophone\n\nFascinated by my
 stery? Drawn to puzzles? This concert is for you! The Wind Symphony\, 
 directed by Dr. Rebecca Phillips\, presents Enigma\, a concert explorin
 g works that are musical conundrums. The ensemble’s final concert of the
  season features graduate student conductors David Davis and Amanda Manni
 ng\, as well as guest soloists\, Dr. Dan Goble\, alto saxophone\, and 
 alum Andrew Rutten\, bass clarinet. We look forward to seeing you!
ATTACH;FMTTYPE=image/jpeg:https://www.libarts.colostate.edu/music/wp-conte
 nt/uploads/sites/17/2026/01/2026.04.24_Wind-Symphony_Enigma_Poster-1.jpg
CATEGORIES:College of Liberal Arts Featured Events
LOCATION:Griffin Concert Hall\, University Center for the Arts\, 1400 Remin
 gton St.\, Fort Collins\, CO\, 80523\, United States
GEO:40.5692704;-105.07477849999998
X-APPLE-STRUCTURED-LOCATION;VALUE=URI;X-ADDRESS=1400 Remington St.\, Fort C
 ollins\, CO\, 80523\, United States;X-APPLE-RADIUS=100;X-TITLE=Griffin Con
 cert Hall\, University Center for the Arts:geo:40.5692704,-105.07477849999
 998
END:VEVENT
BEGIN:VTIMEZONE
TZID:America/Denver
X-LIC-LOCATION:America/Denver
BEGIN:DAYLIGHT
DTSTART:20260308T030000
TZOFFSETFROM:-0700
TZOFFSETTO:-0600
TZNAME:MDT
END:DAYLIGHT
END:VTIMEZONE
END:VCALENDAR