BEGIN:VCALENDAR
VERSION:2.0
PRODID:-//wp-events-plugin.com//7.2.3.1//EN
TZID:America/Denver
X-WR-TIMEZONE:America/Denver
BEGIN:VEVENT
UID:17-5742@music.colostate.edu
DTSTART;TZID=America/Denver:20160412T193000
DTEND;TZID=America/Denver:20160412T210000
DTSTAMP:20160404T164231Z
URL:https://music.colostate.edu/events/wind-symphony-concert-2/
SUMMARY:Wind Symphony Concert
DESCRIPTION:Throughout the 2015-2016 season\, the CSU Wind Symphony\, direc
 ted by Dr. Rebecca Phillips\, celebrates some of the outstanding cornersto
 nes written for winds and percussion. Join us for our final performance of
  the season\, featuring faculty artist Dr. John McGuire\, horn\, performin
 g James Beckel's Glass Bead Game\, based on Herman Hesse's novel. Graduate
  conductor Georgianna Oswald conducts Grainger\, and the Wind Symphony clo
 ses with a celebration of Morton Gould's West Point Symphony!
ATTACH;FMTTYPE=image/jpeg:https://www.libarts.colostate.edu/music/wp-conte
 nt/uploads/sites/17/2016/03/WindSymphonyGraphic.jpg
LOCATION:Griffin Concert Hall\, University Center for the Arts\, 1400 Remin
 gton St.\, Fort Collins\, CO\, 80523\, United States
GEO:40.5692704;-105.07477849999998
X-APPLE-STRUCTURED-LOCATION;VALUE=URI;X-ADDRESS=1400 Remington St.\, Fort C
 ollins\, CO\, 80523\, United States;X-APPLE-RADIUS=100;X-TITLE=Griffin Con
 cert Hall\, University Center for the Arts:geo:40.5692704,-105.07477849999
 998
END:VEVENT
BEGIN:VTIMEZONE
TZID:America/Denver
X-LIC-LOCATION:America/Denver
BEGIN:DAYLIGHT
DTSTART:20160313T030000
TZOFFSETFROM:-0700
TZOFFSETTO:-0600
TZNAME:MDT
END:DAYLIGHT
END:VTIMEZONE
END:VCALENDAR