BEGIN:VCALENDAR
VERSION:2.0
PRODID:-//wp-events-plugin.com//7.2.3.1//EN
TZID:America/Denver
X-WR-TIMEZONE:America/Denver
BEGIN:VEVENT
UID:17-16491@music.colostate.edu
DTSTART;TZID=America/Denver:20211210T193000
DTEND;TZID=America/Denver:20211210T213000
DTSTAMP:20211025T190420Z
URL:https://music.colostate.edu/events/wind-symphony-concert-10/
SUMMARY:Wind Symphony Concert: Celebrations!
DESCRIPTION:Celebrations!\nThis concert will be presented in-person and via
  livestream.\n\nThe Wind Symphony\, directed by Dr. Rebecca Phillips conti
 nues their celebration of live music with a concert featuring Dr. Dan Gobl
 e\, director of the School of Music\, Theatre\, and Dance\, on Mark Watter
 s’s Rhapsody for Baritone Saxophone. This program also includes works by
  Omar Thomas and Julie Giroux. Come celebrate with us! \n\nNote:\nMasks ar
 e required for all patrons regardless of age in all areas of the UCA.\nPle
 ase observe social distancing of 6' between other patrons in all areas of 
 the UCA.\n\nConcert programs are available in a virtual format only and ma
 y be viewed via a QR code available at the performance when available.\n
ATTACH;FMTTYPE=image/jpeg:https://www.libarts.colostate.edu/music/wp-conte
 nt/uploads/sites/17/2020/01/Wind-Symphony-2020.jpg
CATEGORIES:College of Liberal Arts Featured Events
LOCATION:Griffin Concert Hall\, University Center for the Arts\, 1400 Remin
 gton St.\, Fort Collins\, CO\, 80523\, United States
GEO:40.5692704;-105.07477849999998
X-APPLE-STRUCTURED-LOCATION;VALUE=URI;X-ADDRESS=1400 Remington St.\, Fort C
 ollins\, CO\, 80523\, United States;X-APPLE-RADIUS=100;X-TITLE=Griffin Con
 cert Hall\, University Center for the Arts:geo:40.5692704,-105.07477849999
 998
END:VEVENT
BEGIN:VTIMEZONE
TZID:America/Denver
X-LIC-LOCATION:America/Denver
BEGIN:STANDARD
DTSTART:20211107T010000
TZOFFSETFROM:-0600
TZOFFSETTO:-0700
TZNAME:MST
END:STANDARD
END:VTIMEZONE
END:VCALENDAR