BEGIN:VCALENDAR
VERSION:2.0
PRODID:-//wp-events-plugin.com//7.2.3.1//EN
TZID:America/Denver
X-WR-TIMEZONE:America/Denver
BEGIN:VEVENT
UID:17-16473@music.colostate.edu
DTSTART;TZID=America/Denver:20211109T193000
DTEND;TZID=America/Denver:20211109T213000
DTSTAMP:20211025T185624Z
URL:https://music.colostate.edu/events/university-choir-concert/
SUMMARY:University Choir Concert
DESCRIPTION:This concert will be presented in-person and via livestream.\n\
 nThe University Chorus will present a wide-range of musical works in this 
 concert that span classical\, spiritual\, folk\, and contemporary selectio
 ns. The concert will primarily present two themes. First\, an initial song
  set will speak to the small joys in life - taking time to highlight the b
 eauties we were forced to slow down and observe during the global pandemic
 . Second\, the subsequent song set will focus on issues of mental health. 
 We will draw on the work of contemporary artists to explore the pains and 
 triumphs involved with meeting the challenges of our own mental well-being
 . \n\nNote:\nMasks are required for all patrons regardless of age in all a
 reas of the UCA.\nPlease observe social distancing of 6' between other pat
 rons in all areas of the UCA.\n\nConcert programs are available in a virtu
 al format only and may be viewed via a QR code available at the performanc
 e.\n
ATTACH;FMTTYPE=image/jpeg:https://www.libarts.colostate.edu/music/wp-conte
 nt/uploads/sites/17/2021/03/Choir.jpg
CATEGORIES:College of Liberal Arts Featured Events
LOCATION:Griffin Concert Hall\, University Center for the Arts\, 1400 Remin
 gton St.\, Fort Collins\, CO\, 80523\, United States
GEO:40.5692704;-105.07477849999998
X-APPLE-STRUCTURED-LOCATION;VALUE=URI;X-ADDRESS=1400 Remington St.\, Fort C
 ollins\, CO\, 80523\, United States;X-APPLE-RADIUS=100;X-TITLE=Griffin Con
 cert Hall\, University Center for the Arts:geo:40.5692704,-105.07477849999
 998
END:VEVENT
BEGIN:VTIMEZONE
TZID:America/Denver
X-LIC-LOCATION:America/Denver
BEGIN:STANDARD
DTSTART:20211107T010000
TZOFFSETFROM:-0600
TZOFFSETTO:-0700
TZNAME:MST
END:STANDARD
END:VTIMEZONE
END:VCALENDAR