BEGIN:VCALENDAR
VERSION:2.0
PRODID:-//wp-events-plugin.com//7.2.3.1//EN
TZID:America/Denver
X-WR-TIMEZONE:America/Denver
BEGIN:VEVENT
UID:17-11146@music.colostate.edu
DTSTART;TZID=America/Denver:20170411T193000
DTEND;TZID=America/Denver:20170411T213000
DTSTAMP:20170302T230747Z
URL:https://music.colostate.edu/events/trombone-fest-concert/
SUMMARY:Trombone Fest Concert
DESCRIPTION:With guest James Nova\, CSU TRAMbone Choir\, and Trombone Fest 
 participants\n\nEnjoy a "A Night at the Movies\," the culminating event of
  the first-ever CSU Trombone Fest. In addition to his duties with the Pitt
 sburg Symphony\, trombonist Jim Nova is a highly-regarded arranger of musi
 c for trombone ensemble. On this concert\, the TRAMbone Choir performs man
 y of Nova’s cinematic arrangements\, including music from "Star Wars\," 
 "JFK\," and "Ben Hur\," with Mr. Nova playing all of the principal/solo pa
 rts himself! The group also premieres brand-new film score arrangements by
  three current CSU students. To conclude the evening\, participants of CSU
  Trombone Fest join the TRAMbone Choir and James Nova on stage for a truly
  epic "closing scene." Click here for more information about Trombone Fest
 .
ATTACH;FMTTYPE=image/jpeg:https://www.libarts.colostate.edu/music/wp-conte
 nt/uploads/sites/17/2016/12/04.11.17-Trombone-Choir-James-Nova-e1499876886
 454.jpg
LOCATION:Organ Recital Hall\, University Center for the Arts\, 1400 Remingo
 n St.\, Fort Collins\, CO\, 80524\, United States
GEO:40.5692704;-105.07477849999998
X-APPLE-STRUCTURED-LOCATION;VALUE=URI;X-ADDRESS=1400 Remingon St.\, Fort Co
 llins\, CO\, 80524\, United States;X-APPLE-RADIUS=100;X-TITLE=Organ Recita
 l Hall\, University Center for the Arts:geo:40.5692704,-105.07477849999998
END:VEVENT
BEGIN:VTIMEZONE
TZID:America/Denver
X-LIC-LOCATION:America/Denver
BEGIN:DAYLIGHT
DTSTART:20170312T030000
TZOFFSETFROM:-0700
TZOFFSETTO:-0600
TZNAME:MDT
END:DAYLIGHT
END:VTIMEZONE
END:VCALENDAR