BEGIN:VCALENDAR
VERSION:2.0
PRODID:-//wp-events-plugin.com//7.2.3.1//EN
TZID:America/Denver
X-WR-TIMEZONE:America/Denver
BEGIN:VEVENT
UID:17-5310@music.colostate.edu
DTSTART;TZID=America/Denver:20151211T193000
DTEND;TZID=America/Denver:20151211T210000
DTSTAMP:20151112T185301Z
URL:https://music.colostate.edu/events/symphonic-band-concert/
SUMMARY:Symphonic Band Concert: Mixed Media
DESCRIPTION:The Symphonic Band kicks off the annual CSU Honor Band weekend 
 with a program inspired by the world of film\, theatre\, and dance. This c
 oncert fuses together these various genres\, and features multiple media w
 ith live music. An immersive audio/visual experience with a wide range of 
 sounds and styles\, this is a program not to be missed.
ATTACH;FMTTYPE=image/jpeg:https://www.libarts.colostate.edu/music/wp-conte
 nt/uploads/sites/17/2015/09/MixedMedia-music-site.jpg
LOCATION:Griffin Concert Hall\, University Center for the Arts\, 1400 Remin
 gton St.\, Fort Collins\, CO\, 80523\, United States
GEO:40.5692704;-105.07477849999998
X-APPLE-STRUCTURED-LOCATION;VALUE=URI;X-ADDRESS=1400 Remington St.\, Fort C
 ollins\, CO\, 80523\, United States;X-APPLE-RADIUS=100;X-TITLE=Griffin Con
 cert Hall\, University Center for the Arts:geo:40.5692704,-105.07477849999
 998
END:VEVENT
BEGIN:VTIMEZONE
TZID:America/Denver
X-LIC-LOCATION:America/Denver
BEGIN:STANDARD
DTSTART:20151101T010000
TZOFFSETFROM:-0600
TZOFFSETTO:-0700
TZNAME:MST
END:STANDARD
END:VTIMEZONE
END:VCALENDAR