BEGIN:VCALENDAR
VERSION:2.0
PRODID:-//wp-events-plugin.com//7.2.3.1//EN
TZID:America/Denver
X-WR-TIMEZONE:America/Denver
BEGIN:VEVENT
UID:17-5494@music.colostate.edu
DTSTART;TZID=America/Denver:20151029T090000
DTEND;TZID=America/Denver:20151029T110000
DTSTAMP:20151005T234823Z
URL:https://music.colostate.edu/events/strings-master-class-with-lysander-
 trio/
SUMMARY:Strings Master Class with Lysander Trio
DESCRIPTION:Lysander Trio enjoys performing in community programs for audie
 nces of all ages and in a variety of venues. The Trio has collaborated wit
 h middle-school and high-school music teachers and orchestra directors\, v
 isited college classes\, and performed for community organization. The gro
 up offers interactive performances\, coachings\, and master classes tailor
 ed to each audience. This string oriented master class will involve chambe
 r music groups as well.\n\nThe Lysander Trio Master Class is made possible
  by the Classical Convergence Series\, co-produced by Colorado State Unive
 rsity and the Fort Collins Lincoln Center.\n\nClick here for more details 
 about Lysander Trio’s master classes.\nClick here for more details about
  Lysander Trio’s Classical Convergence Concert at the UCA.\n\nThe class 
 is FREE and open to public observation.
ATTACH;FMTTYPE=image/jpeg:https://www.libarts.colostate.edu/music/wp-conte
 nt/uploads/sites/17/2015/05/edited-lysander-main-photo-cover-crop-1024x656
 .jpg
LOCATION:Instrumental Rehearsal Hall\, University Center for the Arts\, 140
 0 Remington St.\, Fort Collins\, CO\, 80524\, Larimer\, United States
GEO:40.5692704;-105.07477849999998
X-APPLE-STRUCTURED-LOCATION;VALUE=URI;X-ADDRESS=1400 Remington St.\, Fort C
 ollins\, CO\, 80524\, Larimer\, United States;X-APPLE-RADIUS=100;X-TITLE=I
 nstrumental Rehearsal Hall\, University Center for the Arts:geo:40.5692704
 ,-105.07477849999998
END:VEVENT
BEGIN:VTIMEZONE
TZID:America/Denver
X-LIC-LOCATION:America/Denver
BEGIN:DAYLIGHT
DTSTART:20150308T030000
TZOFFSETFROM:-0700
TZOFFSETTO:-0600
TZNAME:MDT
END:DAYLIGHT
END:VTIMEZONE
END:VCALENDAR