BEGIN:VCALENDAR
VERSION:2.0
PRODID:-//wp-events-plugin.com//7.2.3.1//EN
TZID:America/Denver
X-WR-TIMEZONE:America/Denver
BEGIN:VEVENT
UID:17-5723@music.colostate.edu
DTSTART;TZID=America/Denver:20160226T193000
DTEND;TZID=America/Denver:20160226T213000
DTSTAMP:20160215T224305Z
URL:https://music.colostate.edu/events/sinfonia-concert/
SUMMARY:Sinfonia Concert
DESCRIPTION:Under the direction of Maestro Wes Kenney\, the select chamber 
 orchestra – ranging from 10–40 members – performs music from the Bar
 oque to contemporary while specializing in the Classic period music of Moz
 art and Haydn. This concert features Igor Stravinsky’s Danses Concertant
 es and Erich Wolfgang Korngold’s “Much Ado About Nothing” Suite.
ATTACH;FMTTYPE=image/jpeg:https://www.libarts.colostate.edu/music/wp-conte
 nt/uploads/sites/17/2015/02/ChoirOrchestraQuickEdit.jpg
LOCATION:Griffin Concert Hall\, University Center for the Arts\, 1400 Remin
 gton St.\, Fort Collins\, CO\, 80523\, United States
GEO:40.5692704;-105.07477849999998
X-APPLE-STRUCTURED-LOCATION;VALUE=URI;X-ADDRESS=1400 Remington St.\, Fort C
 ollins\, CO\, 80523\, United States;X-APPLE-RADIUS=100;X-TITLE=Griffin Con
 cert Hall\, University Center for the Arts:geo:40.5692704,-105.07477849999
 998
END:VEVENT
BEGIN:VTIMEZONE
TZID:America/Denver
X-LIC-LOCATION:America/Denver
BEGIN:STANDARD
DTSTART:20151101T010000
TZOFFSETFROM:-0600
TZOFFSETTO:-0700
TZNAME:MST
END:STANDARD
END:VTIMEZONE
END:VCALENDAR