BEGIN:VCALENDAR
VERSION:2.0
PRODID:-//wp-events-plugin.com//7.2.3.1//EN
TZID:America/Denver
X-WR-TIMEZONE:America/Denver
BEGIN:VEVENT
UID:17-11133@music.colostate.edu
DTSTART;TZID=America/Denver:20170307T193000
DTEND;TZID=America/Denver:20170307T213000
DTSTAMP:20170222T005446Z
URL:https://music.colostate.edu/events/sinfonia-concert-2/
SUMMARY:Sinfonia Concert Featuring the Annual Concerto Competition Finals
DESCRIPTION:Let the Games Begin!\n\nAlways a mesmerizing evening\, see CSU
 ’s top music students square off in the concerto competition finals! “
 I always look forward to this concert\,” enthused Maestro Wes Kenney abo
 ut the annual competition. “It's fantastic working with these amazing st
 udent soloists.” The Sinfonia\, CSU’s chamber orchestra\, also plays o
 ne of Wolfgang Amadeus Mozart's most famous works\, Symphony No. 40 in G m
 inor. “I love any work of his in a minor key\,” revealed Kenney.\n\nFi
 nalists:\nJulius Hochmuth\, Dmitri Shostakovich’s Cello Concerto No. 1\,
  Mvt 1\,3\,4\nFrangel Cesera\, violin\,  Arvo Pärt’s Fratres\nJoe Jone
 s\, Eric Sammut’s Sugaria: Concerto for Solo Marimba
ATTACH;FMTTYPE=image/jpeg:https://www.libarts.colostate.edu/music/wp-conte
 nt/uploads/sites/17/2016/12/03.07.17-Sinfonia-Concert-e1499877252791.jpg
LOCATION:Griffin Concert Hall\, University Center for the Arts\, 1400 Remin
 gton St.\, Fort Collins\, CO\, 80523\, United States
GEO:40.5692704;-105.07477849999998
X-APPLE-STRUCTURED-LOCATION;VALUE=URI;X-ADDRESS=1400 Remington St.\, Fort C
 ollins\, CO\, 80523\, United States;X-APPLE-RADIUS=100;X-TITLE=Griffin Con
 cert Hall\, University Center for the Arts:geo:40.5692704,-105.07477849999
 998
END:VEVENT
BEGIN:VTIMEZONE
TZID:America/Denver
X-LIC-LOCATION:America/Denver
BEGIN:STANDARD
DTSTART:20161106T010000
TZOFFSETFROM:-0600
TZOFFSETTO:-0700
TZNAME:MST
END:STANDARD
END:VTIMEZONE
END:VCALENDAR