BEGIN:VCALENDAR
VERSION:2.0
PRODID:-//wp-events-plugin.com//7.2.3.1//EN
TZID:America/Denver
X-WR-TIMEZONE:America/Denver
BEGIN:VEVENT
UID:17-11886@music.colostate.edu
DTSTART;TZID=America/Denver:20171008T180000
DTEND;TZID=America/Denver:20171008T193000
DTSTAMP:20240514T195529Z
URL:https://music.colostate.edu/events/percussion-ensemble-concert-3/
SUMMARY:Percussion Ensemble Concert
DESCRIPTION:With Guest Peter Ferry\, Percussion\n\nThe concert features the
  music of Elliot Cole\, performed with guest percussionist Peter Ferry. Pr
 oclaimed by the New York Times as a "charismatic contemporary bard\,” Co
 le’s work has been performed by A Far Cry\, the Chicago Composers Orches
 tra\, Metropolis Ensemble\, the Lucerne Festival Academy\, and over 100 pe
 rcussion ensembles around the world. Ferry is on faculty at the Manhattan 
 School of Music\, The New School\, Juilliard Evening Division\, and is pro
 gram director of Musicambia at Sing Sing. "An artist of vision... presenti
 ng percussion in a stunning\, thoughtful way\," —Democrat and Chronicle
ATTACH;FMTTYPE=image/jpeg:https://www.libarts.colostate.edu/music/wp-conte
 nt/uploads/sites/17/2017/06/10.08.17-Percussion-Ensemble-Concert-e14998752
 05541.jpg
CATEGORIES:College of Liberal Arts Featured Events
LOCATION:Griffin Concert Hall\, University Center for the Arts\, 1400 Remin
 gton St.\, Fort Collins\, CO\, 80523\, United States
GEO:40.5692704;-105.07477849999998
X-APPLE-STRUCTURED-LOCATION;VALUE=URI;X-ADDRESS=1400 Remington St.\, Fort C
 ollins\, CO\, 80523\, United States;X-APPLE-RADIUS=100;X-TITLE=Griffin Con
 cert Hall\, University Center for the Arts:geo:40.5692704,-105.07477849999
 998
END:VEVENT
BEGIN:VTIMEZONE
TZID:America/Denver
X-LIC-LOCATION:America/Denver
BEGIN:DAYLIGHT
DTSTART:20170312T030000
TZOFFSETFROM:-0700
TZOFFSETTO:-0600
TZNAME:MDT
END:DAYLIGHT
END:VTIMEZONE
END:VCALENDAR