BEGIN:VCALENDAR
VERSION:2.0
PRODID:-//wp-events-plugin.com//7.2.3.1//EN
TZID:America/Denver
X-WR-TIMEZONE:America/Denver
BEGIN:VEVENT
UID:17-18646@music.colostate.edu
DTSTART;TZID=America/Denver:20241018T193000
DTEND;TZID=America/Denver:20241018T210000
DTSTAMP:20241014T161423Z
URL:https://music.colostate.edu/events/opera-scenes-presented-by-the-ralph
 -opera-program/
SUMMARY:Opera Scenes: Presented by the Ralph Opera Program
DESCRIPTION:Join the Ralph Opera Program for a program of selected scenes f
 rom The Magic Flute by W.A. Mozart.
ATTACH;FMTTYPE=image/jpeg:https://www.libarts.colostate.edu/music/wp-conte
 nt/uploads/sites/17/2024/06/2024.10.20_OperaScenes_Poster.jpg
CATEGORIES:College of Liberal Arts Featured Events
LOCATION:University Center for the Arts\, 1400 Remington St.\, Fort Collins
 \, CO\, 80524\, United States
GEO:40.5692704;-105.07477849999998
X-APPLE-STRUCTURED-LOCATION;VALUE=URI;X-ADDRESS=1400 Remington St.\, Fort C
 ollins\, CO\, 80524\, United States;X-APPLE-RADIUS=100;X-TITLE=University 
 Center for the Arts:geo:40.5692704,-105.07477849999998
END:VEVENT
BEGIN:VTIMEZONE
TZID:America/Denver
X-LIC-LOCATION:America/Denver
BEGIN:DAYLIGHT
DTSTART:20240310T030000
TZOFFSETFROM:-0700
TZOFFSETTO:-0600
TZNAME:MDT
END:DAYLIGHT
END:VTIMEZONE
END:VCALENDAR