BEGIN:VCALENDAR
VERSION:2.0
PRODID:-//wp-events-plugin.com//7.2.3.1//EN
TZID:America/Denver
X-WR-TIMEZONE:America/Denver
BEGIN:VEVENT
UID:17-5788@music.colostate.edu
DTSTART;TZID=America/Denver:20160220T080000
DTEND;TZID=America/Denver:20160220T170000
DTSTAMP:20151218T004713Z
URL:https://music.colostate.edu/events/music-auditionvisit-day/
SUMMARY:Music Audition/Visit Day
DESCRIPTION:Audition days are for students wishing to pursue an undergradua
 te music major or minor degree at CSU. Auditions simultaneously function a
 s admission consideration as well as scholarship consideration through the
  School of Music\, Theatre and Dance. Registration required: music.colosta
 te.edu or call (970) 491-5529.
ATTACH;FMTTYPE=image/jpeg:https://www.libarts.colostate.edu/music/wp-conte
 nt/uploads/sites/17/2015/02/csu-university-center-for-the-arts.jpg
LOCATION:University Center for the Arts\, 1400 Remington St.\, Fort Collins
 \, CO\, 80524\, United States
GEO:40.5692704;-105.07477849999998
X-APPLE-STRUCTURED-LOCATION;VALUE=URI;X-ADDRESS=1400 Remington St.\, Fort C
 ollins\, CO\, 80524\, United States;X-APPLE-RADIUS=100;X-TITLE=University 
 Center for the Arts:geo:40.5692704,-105.07477849999998
END:VEVENT
BEGIN:VTIMEZONE
TZID:America/Denver
X-LIC-LOCATION:America/Denver
BEGIN:STANDARD
DTSTART:20151101T010000
TZOFFSETFROM:-0600
TZOFFSETTO:-0700
TZNAME:MST
END:STANDARD
END:VTIMEZONE
END:VCALENDAR