BEGIN:VCALENDAR
VERSION:2.0
PRODID:-//wp-events-plugin.com//7.2.3.1//EN
TZID:America/Denver
X-WR-TIMEZONE:America/Denver
BEGIN:VEVENT
UID:17-12806@music.colostate.edu
DTSTART;TZID=America/Denver:20180407T080000
DTEND;TZID=America/Denver:20180407T130000
DTSTAMP:20200205T181045Z
URL:https://music.colostate.edu/events/msoe-carnival/
SUMMARY:MSOE Musical Carnival 2018
DESCRIPTION:Registration will begin at 8 a.m.\, Workshops will be from 9 a.
 m.-12 p.m.\, and there will be an optional concert from 12:15-1 p.m.\n\nAt
 tention! Middle School Band Orchestra\n\nCSU's middle school outreach prog
 ram is proud to present to you A Day of Musical Excellence\, jam-packed wi
 th workshops and performances\, available to any music student grades 6-8.
 \n\nThe Musical Carnival is a completely free event for middle school aged
  students involved in music. Music education students from CSU create and 
 teach fun and creative workshops to inspire and expand the musical world o
 f middle school students! You do not need to be involved in the Middle Sch
 ool outreach ensemble to participate\, it is open to all students who are 
 involved in band\, orchestra\, and choir.\n\nRegister Online
ATTACH;FMTTYPE=image/jpeg:https://www.libarts.colostate.edu/music/wp-conte
 nt/uploads/sites/17/2018/03/MSOECarnival.jpg
CATEGORIES:College of Liberal Arts Featured Events
LOCATION:Griffin Concert Hall\, University Center for the Arts\, 1400 Remin
 gton St.\, Fort Collins\, CO\, 80523\, United States
GEO:40.5692704;-105.07477849999998
X-APPLE-STRUCTURED-LOCATION;VALUE=URI;X-ADDRESS=1400 Remington St.\, Fort C
 ollins\, CO\, 80523\, United States;X-APPLE-RADIUS=100;X-TITLE=Griffin Con
 cert Hall\, University Center for the Arts:geo:40.5692704,-105.07477849999
 998
END:VEVENT
BEGIN:VTIMEZONE
TZID:America/Denver
X-LIC-LOCATION:America/Denver
BEGIN:DAYLIGHT
DTSTART:20180311T030000
TZOFFSETFROM:-0700
TZOFFSETTO:-0600
TZNAME:MDT
END:DAYLIGHT
END:VTIMEZONE
END:VCALENDAR