BEGIN:VCALENDAR
VERSION:2.0
PRODID:-//wp-events-plugin.com//7.2.3.1//EN
TZID:America/Denver
X-WR-TIMEZONE:America/Denver
BEGIN:VEVENT
UID:17-17384@music.colostate.edu
DTSTART;TZID=America/Denver:20221114T160000
DTEND;TZID=America/Denver:20221114T170000
DTSTAMP:20221108T214829Z
URL:https://music.colostate.edu/events/masterclass-mark-inouye-trumpet/
SUMMARY:Masterclass: Mark Inouye\, Trumpet
DESCRIPTION:The CSU Trumpet Studio will host a clinic given by Mark Inouye\
 , principal trumpet of the San Francisco Symphony Orchestra. Admission is 
 free and open to the public. Serious high school trumpeters and area band 
 directors are encouraged to attend.\n\nEnjoy an introductory film made by 
 the SFSO about the amazingly versatile and talented Mr. Inouye.\n\nAbout M
 ark Inouye\n\nMark J Inouye is one of a very select group of trumpeters eq
 ually at home in the worlds of jazz and classical music. Currently he is t
 he Principal Trumpet of the San Francisco Symphony. After attending the Un
 iversity of California at Davis for two years as a civil engineering major
 \, he transferred to the Juilliard School. He toured the United States wit
 h Toccatas and Flourishes\, the nationally acclaimed organ and trumpet duo
 . He was a member of the New World Symphony and Principal Trumpet with the
  Charleston Symphony before joining the San Francisco Symphony in 1999. He
  also served as Principal Trumpet with the Houston Symphony from 2004-2006
  and was a guest principal of the New York Philharmonic and the Chicago Sy
 mphony. Mr. Inouye was a soloist in Wynton Marsalis’s video production M
 arsalis on Music under the direction of Seiji Ozawa and has appeared as a 
 soloist featuring the WHO at Carnegie Hall. He has performed both the Hayd
 n and Tomasi Trumpet Concerti with the New World Symphony. He has also per
 formed the Tartini Violin Concerto\, arranged for trumpet\, with the Houst
 on Symphony. Mr. Inouye has been a soloist with the San Francisco Symphony
  on numerous occasions performing Copland's Quiet City\, Bach's Cantata No
 . 51\, Vassily Brandt's Concertpiece No. 2\, and the Haydn Trumpet Concert
 o. He has performed his own jazz compositions on numerous occasions with t
 he San Francisco Symphony's Chamber Music Series.
ATTACH;FMTTYPE=image/jpeg:https://www.libarts.colostate.edu/music/wp-conte
 nt/uploads/sites/17/2022/11/inouye-2000px.jpg
CATEGORIES:College of Liberal Arts Featured Events
LOCATION:Runyan Rehearsal Hall\, University Center for the Arts\, 1400 Remi
 ngton St.\, Fort Collins\, CO\, 80524\, Larimer\, United States
GEO:40.5692704;-105.07477849999998
X-APPLE-STRUCTURED-LOCATION;VALUE=URI;X-ADDRESS=1400 Remington St.\, Fort C
 ollins\, CO\, 80524\, Larimer\, United States;X-APPLE-RADIUS=100;X-TITLE=R
 unyan Rehearsal Hall\, University Center for the Arts:geo:40.5692704,-105.
 07477849999998
END:VEVENT
BEGIN:VTIMEZONE
TZID:America/Denver
X-LIC-LOCATION:America/Denver
BEGIN:STANDARD
DTSTART:20221106T010000
TZOFFSETFROM:-0600
TZOFFSETTO:-0700
TZNAME:MST
END:STANDARD
END:VTIMEZONE
END:VCALENDAR