BEGIN:VCALENDAR
VERSION:2.0
PRODID:-//wp-events-plugin.com//7.2.3.1//EN
TZID:America/Denver
X-WR-TIMEZONE:America/Denver
BEGIN:VEVENT
UID:17-11138@music.colostate.edu
DTSTART;TZID=America/Denver:20170327T153000
DTEND;TZID=America/Denver:20170327T180000
DTSTAMP:20170213T173136Z
URL:https://music.colostate.edu/events/master-class-sir-james-galway/
SUMMARY:Master Class with Sir James Galway
DESCRIPTION:This event is FREE\, but a ticket is required for entry. Ticket
 s are now available online.\n\nA once-in-a-lifetime opportunity to learn f
 rom "The Master of the Flute." Students of all ages and levels will benefi
 t from listening to Sir James Galway as he guides CSU flute students throu
 gh complex passages and shares his years of experience and wisdom. The mas
 ter class starts with a 45 minute warm-up open to all flute-playing attend
 ees\, so bring your instrument!\n\nAs part of the Classical Convergence Se
 ries co-presented by CSU and the Fort Collins Lincoln Center\, James Galwa
 y will be in-concert on March 26. Click here to purchase concert tickets.
ATTACH;FMTTYPE=image/jpeg:https://www.libarts.colostate.edu/music/wp-conte
 nt/uploads/sites/17/2016/12/03.26.17-Sir-James-Galway-Master-Class-e149987
 7204399.jpg
LOCATION:Organ Recital Hall\, University Center for the Arts\, 1400 Remingo
 n St.\, Fort Collins\, CO\, 80524\, United States
GEO:40.5692704;-105.07477849999998
X-APPLE-STRUCTURED-LOCATION;VALUE=URI;X-ADDRESS=1400 Remingon St.\, Fort Co
 llins\, CO\, 80524\, United States;X-APPLE-RADIUS=100;X-TITLE=Organ Recita
 l Hall\, University Center for the Arts:geo:40.5692704,-105.07477849999998
END:VEVENT
BEGIN:VTIMEZONE
TZID:America/Denver
X-LIC-LOCATION:America/Denver
BEGIN:DAYLIGHT
DTSTART:20170312T030000
TZOFFSETFROM:-0700
TZOFFSETTO:-0600
TZNAME:MDT
END:DAYLIGHT
END:VTIMEZONE
END:VCALENDAR