BEGIN:VCALENDAR
VERSION:2.0
PRODID:-//wp-events-plugin.com//7.2.3.1//EN
TZID:America/Denver
X-WR-TIMEZONE:America/Denver
BEGIN:VEVENT
UID:17-3229@music.colostate.edu
DTSTART;TZID=America/Denver:20150418T103000
DTEND;TZID=America/Denver:20150418T120000
DTSTAMP:20150423T144149Z
URL:https://music.colostate.edu/events/master-class-series-with-the-borrom
 eo-string-quartet/
SUMMARY:Master Class Series with the Borromeo String Quartet
DESCRIPTION:As CSU’s ensemble-in-residence\, the Borromeo String Quartet 
 returns for an 11th season to work as coaches with CSU students and the Pr
 e-College Chamber Music Festival\, and perform as part of the Classical Co
 nvergence Music Series. Contact: Ron.Francois@colostate.edu.
ATTACH;FMTTYPE=image/jpeg:https://www.libarts.colostate.edu/music/wp-conte
 nt/uploads/sites/17/2015/03/DSC_0703.jpg
LOCATION:Organ Recital Hall\, University Center for the Arts\, 1400 Remingo
 n St.\, Fort Collins\, CO\, 80524\, United States
GEO:40.5692704;-105.07477849999998
X-APPLE-STRUCTURED-LOCATION;VALUE=URI;X-ADDRESS=1400 Remingon St.\, Fort Co
 llins\, CO\, 80524\, United States;X-APPLE-RADIUS=100;X-TITLE=Organ Recita
 l Hall\, University Center for the Arts:geo:40.5692704,-105.07477849999998
END:VEVENT
BEGIN:VTIMEZONE
TZID:America/Denver
X-LIC-LOCATION:America/Denver
BEGIN:DAYLIGHT
DTSTART:20150308T030000
TZOFFSETFROM:-0700
TZOFFSETTO:-0600
TZNAME:MDT
END:DAYLIGHT
END:VTIMEZONE
END:VCALENDAR