BEGIN:VCALENDAR
VERSION:2.0
PRODID:-//wp-events-plugin.com//7.2.3.1//EN
TZID:America/Denver
X-WR-TIMEZONE:America/Denver
BEGIN:VEVENT
UID:17-12319@music.colostate.edu
DTSTART;TZID=America/Denver:20171115T090000
DTEND;TZID=America/Denver:20171115T110000
DTSTAMP:20171107T203253Z
URL:https://music.colostate.edu/events/master-class-morgenstern-trio/
SUMMARY:Master Class: Morgenstern Trio
DESCRIPTION:The class takes place in Room 202.\n\nThe Morgenstern Trio will
  work with CSU's graduate quartet and trio\, and one undergraduate quartet
 . The session is FREE and open to public observation.\n\nNamed after the f
 amed poet Christian Morgenstern\, this German piano trio has been praised 
 for their “unanimity\, polished technique and musical imagination” by 
 The Washington Post.
ATTACH;FMTTYPE=image/jpeg:https://www.libarts.colostate.edu/music/wp-conte
 nt/uploads/sites/17/2017/11/pressefoto_01.jpg
LOCATION:University Center for the Arts\, 1400 Remington St.\, Fort Collins
 \, CO\, 80524\, United States
GEO:40.5692704;-105.07477849999998
X-APPLE-STRUCTURED-LOCATION;VALUE=URI;X-ADDRESS=1400 Remington St.\, Fort C
 ollins\, CO\, 80524\, United States;X-APPLE-RADIUS=100;X-TITLE=University 
 Center for the Arts:geo:40.5692704,-105.07477849999998
END:VEVENT
BEGIN:VTIMEZONE
TZID:America/Denver
X-LIC-LOCATION:America/Denver
BEGIN:STANDARD
DTSTART:20171105T010000
TZOFFSETFROM:-0600
TZOFFSETTO:-0700
TZNAME:MST
END:STANDARD
END:VTIMEZONE
END:VCALENDAR