BEGIN:VCALENDAR
VERSION:2.0
PRODID:-//wp-events-plugin.com//7.2.3.1//EN
TZID:America/Denver
X-WR-TIMEZONE:America/Denver
BEGIN:VEVENT
UID:17-5317@music.colostate.edu
DTSTART;TZID=America/Denver:20151212T140000
DTEND;TZID=America/Denver:20151212T153000
DTSTAMP:20150923T205733Z
URL:https://music.colostate.edu/events/honor-band-concert/
SUMMARY:Honor Band Concert
DESCRIPTION:This annual event brings together the finest high school musici
 ans from the Rocky Mountain Region\, selected from hundreds of applicants 
 throughout the western United States. The three-day festival features gues
 t conductors and clinicians from across the country and is capped off with
  a performance by the High School Honor Band\, conducted by director of ba
 nds at the University of Oregon\, Rodney Dorsey.
ATTACH;FMTTYPE=image/jpeg:https://www.libarts.colostate.edu/music/wp-conte
 nt/uploads/sites/17/2015/09/12.12.15_Honor-Band-Concert_Dorsey.jpg
LOCATION:Griffin Concert Hall\, University Center for the Arts\, 1400 Remin
 gton St.\, Fort Collins\, CO\, 80523\, United States
GEO:40.5692704;-105.07477849999998
X-APPLE-STRUCTURED-LOCATION;VALUE=URI;X-ADDRESS=1400 Remington St.\, Fort C
 ollins\, CO\, 80523\, United States;X-APPLE-RADIUS=100;X-TITLE=Griffin Con
 cert Hall\, University Center for the Arts:geo:40.5692704,-105.07477849999
 998
END:VEVENT
BEGIN:VTIMEZONE
TZID:America/Denver
X-LIC-LOCATION:America/Denver
BEGIN:STANDARD
DTSTART:20151101T010000
TZOFFSETFROM:-0600
TZOFFSETTO:-0700
TZNAME:MST
END:STANDARD
END:VTIMEZONE
END:VCALENDAR