BEGIN:VCALENDAR
VERSION:2.0
PRODID:-//wp-events-plugin.com//7.2.3.1//EN
TZID:America/Denver
X-WR-TIMEZONE:America/Denver
BEGIN:VEVENT
UID:17-5732@music.colostate.edu
DTSTART;TZID=America/Denver:20160302T193000
DTEND;TZID=America/Denver:20160302T210000
DTSTAMP:20160216T220115Z
URL:https://music.colostate.edu/events/harp-ensemble-concert/
SUMMARY:Harp Ensemble Concert
DESCRIPTION:The concert features a new arrangement of Por Una Cabeza for ha
 rp ensemble by Professor Rachel Ellins\, as well as student arrangements i
 ncluding Katie Miksch’s arrangement of music from the video game Halo an
 d Rachel Franklin’s arrangement of Arwen's Vigil by The Piano Guys. The 
 concert also includes a new work entitled The Gypsy in My Soul by Steven R
 osenhaus\, The Dyades by Bernard Andres\, Spanish Dance No. 1 by Enrique G
 ranados\, and The Dances Sacred and Profane by Claude Debussy featuring se
 nior performance major\, Sara Schmidt.
ATTACH;FMTTYPE=image/jpeg:https://www.libarts.colostate.edu/music/wp-conte
 nt/uploads/sites/17/2015/02/05072_00038.jpg
LOCATION:Organ Recital Hall\, University Center for the Arts\, 1400 Remingo
 n St.\, Fort Collins\, CO\, 80524\, United States
GEO:40.5692704;-105.07477849999998
X-APPLE-STRUCTURED-LOCATION;VALUE=URI;X-ADDRESS=1400 Remingon St.\, Fort Co
 llins\, CO\, 80524\, United States;X-APPLE-RADIUS=100;X-TITLE=Organ Recita
 l Hall\, University Center for the Arts:geo:40.5692704,-105.07477849999998
END:VEVENT
BEGIN:VTIMEZONE
TZID:America/Denver
X-LIC-LOCATION:America/Denver
BEGIN:STANDARD
DTSTART:20151101T010000
TZOFFSETFROM:-0600
TZOFFSETTO:-0700
TZNAME:MST
END:STANDARD
END:VTIMEZONE
END:VCALENDAR