BEGIN:VCALENDAR
VERSION:2.0
PRODID:-//wp-events-plugin.com//7.2.3.1//EN
TZID:America/Denver
X-WR-TIMEZONE:America/Denver
BEGIN:VEVENT
UID:17-14274@music.colostate.edu
DTSTART;TZID=America/Denver:20191119T180000
DTEND;TZID=America/Denver:20191119T193000
DTSTAMP:20200403T150548Z
URL:https://music.colostate.edu/events/guitar-studio-recital-free/
SUMMARY:Guitar Studio Recital / FREE
DESCRIPTION:CSU’s inaugural guitar studio presents a recital featuring ch
 amber music and solo performances of contemporary works\, as well as arran
 gements of standard classical repertoire.
ATTACH;FMTTYPE=image/jpeg:https://www.libarts.colostate.edu/music/wp-conte
 nt/uploads/sites/17/2020/04/InstrumentGuitar.jpg
CATEGORIES:College of Liberal Arts Featured Events
LOCATION:Organ Recital Hall\, University Center for the Arts\, 1400 Remingt
 on St.\, Fort Collins\, CO\, 80523\, United States
GEO:40.56974599999999;-105.07458350000002
X-APPLE-STRUCTURED-LOCATION;VALUE=URI;X-ADDRESS=1400 Remington St.\, Fort C
 ollins\, CO\, 80523\, United States;X-APPLE-RADIUS=100;X-TITLE=Organ Recit
 al Hall\, University Center for the Arts:geo:40.56974599999999,-105.074583
 50000002
END:VEVENT
BEGIN:VTIMEZONE
TZID:America/Denver
X-LIC-LOCATION:America/Denver
BEGIN:STANDARD
DTSTART:20191103T010000
TZOFFSETFROM:-0600
TZOFFSETTO:-0700
TZNAME:MST
END:STANDARD
END:VTIMEZONE
END:VCALENDAR