BEGIN:VCALENDAR
VERSION:2.0
PRODID:-//wp-events-plugin.com//7.2.3.1//EN
TZID:America/Denver
X-WR-TIMEZONE:America/Denver
BEGIN:VEVENT
UID:17-5184@music.colostate.edu
DTSTART;TZID=America/Denver:20151111T193000
DTEND;TZID=America/Denver:20151111T210000
DTSTAMP:20150923T205815Z
URL:https://music.colostate.edu/events/graduate-string-quartet-zinnia-quar
 tet/
SUMMARY:Graduate String Quartet: Zinnia Quartet
DESCRIPTION:One of two graduate quartets at CSU\, the Zinnia String Quartet
  presents a program of the great string quartet literature. Members: Ji Hy
 e Chung\, violin\; Elizabeth Lenz\, violin\; Joy Holz\, viola\; Lydia Hyns
 on\, cello.
ATTACH;FMTTYPE=image/jpeg:https://www.libarts.colostate.edu/music/wp-conte
 nt/uploads/sites/17/2015/08/05.04.16_Graduate-String-Quartet.jpg
LOCATION:University Center for the Arts\, Organ Recital Hall\, 1400 Remingt
 on St\, Fort Collins\, United States
GEO:40.569271;-105.074776
X-APPLE-STRUCTURED-LOCATION;VALUE=URI;X-ADDRESS=1400 Remington St\, Fort Co
 llins\, United States;X-APPLE-RADIUS=100;X-TITLE=University Center for the
  Arts\, Organ Recital Hall:geo:40.569271,-105.074776
END:VEVENT
BEGIN:VTIMEZONE
TZID:America/Denver
X-LIC-LOCATION:America/Denver
BEGIN:STANDARD
DTSTART:20151101T010000
TZOFFSETFROM:-0600
TZOFFSETTO:-0700
TZNAME:MST
END:STANDARD
END:VTIMEZONE
END:VCALENDAR