BEGIN:VCALENDAR
VERSION:2.0
PRODID:-//wp-events-plugin.com//7.2.3.1//EN
TZID:America/Denver
X-WR-TIMEZONE:America/Denver
BEGIN:VEVENT
UID:17-11910@music.colostate.edu
DTSTART;TZID=America/Denver:20171203T133000
DTEND;TZID=America/Denver:20171203T150000
DTSTAMP:20170905T162832Z
URL:https://music.colostate.edu/events/graduate-string-quartet-concert-fre
 e/
SUMMARY:Graduate String Quartet Concert / FREE
DESCRIPTION:This year begins a new two-year cycle for the Graduate Quartet 
 Program. The new members are Frangel Lopez Cesena from Mexico and Ryan Fo
 ley from Boulder on violin\, Rosa Cole from Mexico on viola\, and Julius 
 Hochmuth from Fort Collins on cello. The ensemble performs repertoire from
  the wonderfully varied string quartet genre.
ATTACH;FMTTYPE=image/jpeg:https://www.libarts.colostate.edu/music/wp-conte
 nt/uploads/sites/17/2017/02/04.19.17-Graduate-String-Trio-e1499876691810.j
 pg
CATEGORIES:College of Liberal Arts Featured Events
LOCATION:Organ Recital Hall\, University Center for the Arts\, 1400 Remingo
 n St.\, Fort Collins\, CO\, 80524\, United States
GEO:40.5692704;-105.07477849999998
X-APPLE-STRUCTURED-LOCATION;VALUE=URI;X-ADDRESS=1400 Remingon St.\, Fort Co
 llins\, CO\, 80524\, United States;X-APPLE-RADIUS=100;X-TITLE=Organ Recita
 l Hall\, University Center for the Arts:geo:40.5692704,-105.07477849999998
END:VEVENT
BEGIN:VTIMEZONE
TZID:America/Denver
X-LIC-LOCATION:America/Denver
BEGIN:STANDARD
DTSTART:20171105T010000
TZOFFSETFROM:-0600
TZOFFSETTO:-0700
TZNAME:MST
END:STANDARD
END:VTIMEZONE
END:VCALENDAR