BEGIN:VCALENDAR
VERSION:2.0
PRODID:-//wp-events-plugin.com//7.2.3.1//EN
TZID:America/Denver
X-WR-TIMEZONE:America/Denver
BEGIN:VEVENT
UID:17-14262@music.colostate.edu
DTSTART;TZID=America/Denver:20191017T193000
DTEND;TZID=America/Denver:20191017T210000
DTSTAMP:20190920T185542Z
URL:https://music.colostate.edu/events/fall-choral-showcase/
SUMMARY:Fall Choral Showcase
DESCRIPTION:Join the Chamber Choir\, conducted by James Kim\, the Concert C
 hoir\, conducted by Nathan Payant\, and the University Chorus\, conducted 
 by Seth Pendergast for the annual showcase featuring a wide variety of mus
 ic to inspire and enliven the soul.
ATTACH;FMTTYPE=image/jpeg:https://www.libarts.colostate.edu/music/wp-conte
 nt/uploads/sites/17/2019/06/2019.10.17-FallChoral2019_11x17.jpg
CATEGORIES:College of Liberal Arts Featured Events
LOCATION:Griffin Concert Hall\, University Center for the Arts\, 1400 Remin
 gton St.\, Fort Collins\, CO\, 80523\, United States
GEO:40.5692704;-105.07477849999998
X-APPLE-STRUCTURED-LOCATION;VALUE=URI;X-ADDRESS=1400 Remington St.\, Fort C
 ollins\, CO\, 80523\, United States;X-APPLE-RADIUS=100;X-TITLE=Griffin Con
 cert Hall\, University Center for the Arts:geo:40.5692704,-105.07477849999
 998
END:VEVENT
BEGIN:VTIMEZONE
TZID:America/Denver
X-LIC-LOCATION:America/Denver
BEGIN:DAYLIGHT
DTSTART:20190310T030000
TZOFFSETFROM:-0700
TZOFFSETTO:-0600
TZNAME:MDT
END:DAYLIGHT
END:VTIMEZONE
END:VCALENDAR