BEGIN:VCALENDAR
VERSION:2.0
PRODID:-//wp-events-plugin.com//7.2.3.1//EN
TZID:America/Denver
X-WR-TIMEZONE:America/Denver
BEGIN:VEVENT
UID:17-18068@music.colostate.edu
DTSTART;TZID=America/Denver:20231127T183000
DTEND;TZID=America/Denver:20231127T203000
DTSTAMP:20231110T020001Z
URL:https://music.colostate.edu/events/csu-jazz-faculty-group-denver/
SUMMARY:CSU Jazz Faculty Group at Dazzle in Denver
DESCRIPTION:Jazz is heating up at Colorado State University with a faculty 
 of stellar Colorado jazz musicians. Focusing on straight-ahead jazz with a
  modern scholarly bent\, the CSU faculty demonstrate that jazz is thriving
  in Fort Collins. Lead by the director of jazz studies\, Wil Swindler (sax
 ophone)\, the CSU Faculty Jazz Group includes Gabe Mervine (trumpet)\, Gab
 riel Santiago (guitar)\, Tom Amend (piano)\, Seth Lewis (bass)\, and Shilo
  Stroman (drums). Join us at Dazzle in Denver for a truly enjoyable evenin
 g of swinging tunes.
ATTACH;FMTTYPE=image/jpeg:https://www.libarts.colostate.edu/music/wp-conte
 nt/uploads/sites/17/2023/11/CSUJazzFacultyGroup.jpg
CATEGORIES:College of Liberal Arts Featured Events
END:VEVENT
BEGIN:VTIMEZONE
TZID:America/Denver
X-LIC-LOCATION:America/Denver
BEGIN:STANDARD
DTSTART:20231105T010000
TZOFFSETFROM:-0600
TZOFFSETTO:-0700
TZNAME:MST
END:STANDARD
END:VTIMEZONE
END:VCALENDAR