BEGIN:VCALENDAR
VERSION:2.0
PRODID:-//wp-events-plugin.com//7.2.3.1//EN
TZID:America/Denver
X-WR-TIMEZONE:America/Denver
BEGIN:VEVENT
UID:17-11960@music.colostate.edu
DTSTART;TZID=America/Denver:20171024T193000
DTEND;TZID=America/Denver:20171024T213000
DTSTAMP:20170711T175623Z
URL:https://music.colostate.edu/events/classical-convergence-publiquartet/
SUMMARY:Classical Convergence\, PUBLIQuartet
DESCRIPTION:This ‘genre-independent’ string quartet pushes traditional 
 boundaries by showcasing new music and supporting emerging composers\, fea
 turing works that range from the classical canon to jazz\, and often inclu
 ding open-form improvisation.\n\nDubbed “independent-minded” by The Ne
 w Yorker\, PUBLIQuartet’s creative programming lends a fresh perspective
  to the Classical music scene. Founded in 2010 and dedicated to presenting
  new works for string quartet\, PUBLIQuartet was selected as Concert Artis
 ts Guild’s New Music/New Places Ensemble at the Concert Artists Guild Co
 mpetition\, also winning their Sylvia Ann Hewlett Adventurous Artist Prize
 . Hailed by WQXR as a “…‘genre-independent’ quartet that not only 
 vehemently supports emerging composers\, but also composes collectively 
 – a rare occurrence in this field\,” the group received Chamber Music 
 America’s 2015 ASCAP Adventurous Programming Award for outstanding and i
 nnovative approaches to contemporary classical\, jazz\, and world chamber 
 music. PQ’s innovative programs span the classical canon and also featur
 e open-form improvisations that expand the techniques and aesthetic of the
  traditional string quartet.\n\nThese distinctive qualities led New York
 ’s Metropolitan Museum of Art to name PUBLIQuartet as Ensemble-in-Reside
 nce for the 2016-17 season.\n\n“…magnetic momentum and energy…innova
 tive music making without any condescension or compromise.” —Feast of 
 Music\n\n*Public pricing may increase by $5-$10 based on inventory
ATTACH;FMTTYPE=image/jpeg:https://www.libarts.colostate.edu/music/wp-conte
 nt/uploads/sites/17/2017/06/10.24.17-CC-PUBLIQuartet-e1499874997181.jpg
CATEGORIES:College of Liberal Arts Featured Events
LOCATION:Organ Recital Hall\, University Center for the Arts\, 1400 Remingo
 n St.\, Fort Collins\, CO\, 80524\, United States
GEO:40.5692704;-105.07477849999998
X-APPLE-STRUCTURED-LOCATION;VALUE=URI;X-ADDRESS=1400 Remingon St.\, Fort Co
 llins\, CO\, 80524\, United States;X-APPLE-RADIUS=100;X-TITLE=Organ Recita
 l Hall\, University Center for the Arts:geo:40.5692704,-105.07477849999998
END:VEVENT
BEGIN:VTIMEZONE
TZID:America/Denver
X-LIC-LOCATION:America/Denver
BEGIN:DAYLIGHT
DTSTART:20170312T030000
TZOFFSETFROM:-0700
TZOFFSETTO:-0600
TZNAME:MDT
END:DAYLIGHT
END:VTIMEZONE
END:VCALENDAR