BEGIN:VCALENDAR
VERSION:2.0
PRODID:-//wp-events-plugin.com//7.2.3.1//EN
TZID:America/Denver
X-WR-TIMEZONE:America/Denver
BEGIN:VEVENT
UID:17-3202@music.colostate.edu
DTSTART;TZID=America/Denver:20150418T193000
DTEND;TZID=America/Denver:20150418T210000
DTSTAMP:20240514T193402Z
URL:https://music.colostate.edu/events/classical-convergence-borromeo-stri
 ng-quartet/
SUMMARY:Classical Convergence: Borromeo String Quartet
DESCRIPTION:Colorado State University’s ensemble-in-residence closes out 
 the Classical Convergence inaugural season. The internationally acclaimed 
 Borromeo String Quartet has been quartet-in-residence at Colorado State Un
 iversity for ten seasons\, leading master classes and performing as guest 
 artists.\n\nBuilding on the classical concert programs of both organizatio
 ns\, the co-produced season features seven world-class performers and ense
 mbles\, performing at the University Center for the Arts and the Lincoln C
 enter.
ATTACH;FMTTYPE=image/jpeg:https://www.libarts.colostate.edu/music/wp-conte
 nt/uploads/sites/17/2015/03/BorromeoStanding-e1522856530714.jpg
LOCATION:Griffin Concert Hall\, University Center for the Arts\, 1400 Remin
 gton St.\, Fort Collins\, CO\, 80523\, United States
GEO:40.5692704;-105.07477849999998
X-APPLE-STRUCTURED-LOCATION;VALUE=URI;X-ADDRESS=1400 Remington St.\, Fort C
 ollins\, CO\, 80523\, United States;X-APPLE-RADIUS=100;X-TITLE=Griffin Con
 cert Hall\, University Center for the Arts:geo:40.5692704,-105.07477849999
 998
END:VEVENT
BEGIN:VTIMEZONE
TZID:America/Denver
X-LIC-LOCATION:America/Denver
BEGIN:DAYLIGHT
DTSTART:20150308T030000
TZOFFSETFROM:-0700
TZOFFSETTO:-0600
TZNAME:MDT
END:DAYLIGHT
END:VTIMEZONE
END:VCALENDAR