BEGIN:VCALENDAR
VERSION:2.0
PRODID:-//wp-events-plugin.com//7.2.3.1//EN
TZID:America/Denver
X-WR-TIMEZONE:America/Denver
BEGIN:VEVENT
UID:17-5776@music.colostate.edu
DTSTART;TZID=America/Denver:20160221T193000
DTEND;TZID=America/Denver:20160221T213000
DTSTAMP:20160211T221254Z
URL:https://music.colostate.edu/events/anything-new-music-ensemble/
SUMMARY:Concert: It Could Be Anything New Music Ensemble
DESCRIPTION:It Could be Anything\, CSU's New Music Ensemble\, embodies the 
 spirit of the new music culture and is dedicated to performing innovative\
 , collaborative\, and exciting works of living composers\, as well as the 
 important contemporary works from composers of the recent past. Under the 
 direction of Dr. Wesley Ferreira and Professor Andrew Jacobson\, this conc
 ert features many engaging works including John Cage’s “Living Room Mu
 sic.”
ATTACH;FMTTYPE=image/jpeg:https://www.libarts.colostate.edu/music/wp-conte
 nt/uploads/sites/17/2015/11/It-Coud-Be-Anything_web.jpg
LOCATION:Organ Recital Hall\, University Center for the Arts\, 1400 Remingo
 n St.\, Fort Collins\, CO\, 80524\, United States
GEO:40.5692704;-105.07477849999998
X-APPLE-STRUCTURED-LOCATION;VALUE=URI;X-ADDRESS=1400 Remingon St.\, Fort Co
 llins\, CO\, 80524\, United States;X-APPLE-RADIUS=100;X-TITLE=Organ Recita
 l Hall\, University Center for the Arts:geo:40.5692704,-105.07477849999998
END:VEVENT
BEGIN:VTIMEZONE
TZID:America/Denver
X-LIC-LOCATION:America/Denver
BEGIN:STANDARD
DTSTART:20151101T010000
TZOFFSETFROM:-0600
TZOFFSETTO:-0700
TZNAME:MST
END:STANDARD
END:VTIMEZONE
END:VCALENDAR