BEGIN:VCALENDAR
VERSION:2.0
PRODID:-//wp-events-plugin.com//7.2.3.1//EN
TZID:America/Denver
X-WR-TIMEZONE:America/Denver
BEGIN:VEVENT
UID:17-11511@music.colostate.edu
DTSTART;TZID=America/Denver:20170425T193000
DTEND;TZID=America/Denver:20170425T213000
DTSTAMP:20170418T224935Z
URL:https://music.colostate.edu/events/all-choral-concert/
SUMMARY:All Choral Concert
DESCRIPTION:Enjoy selections performed by all four choirs at CSU – Chambe
 r Choir\, Concert Choir\, Men’s Chorus\, and University Chorus. Over 200
  voices join forces at the end for a culminating celebration!\n\nThe Conce
 rt Choir is performing Mozart’s Regina Coeli K. 276 and two pieces by Ja
 ke Runestad. Men’s Chorus is performing a set of English and Irish folk 
 songs including the Minstrel Boy\, Go Lovely Rose\, and Chickens in the Ga
 rden. All of the choirs will combine to perform Rachmaninoff’s Bogorodit
 se Devo as a finale.
ATTACH;FMTTYPE=image/jpeg:https://www.libarts.colostate.edu/music/wp-conte
 nt/uploads/sites/17/2015/10/Concert-Choir-2_WEB.jpg
LOCATION:Griffin Concert Hall\, University Center for the Arts\, 1400 Remin
 gton St.\, Fort Collins\, CO\, 80523\, United States
GEO:40.5692704;-105.07477849999998
X-APPLE-STRUCTURED-LOCATION;VALUE=URI;X-ADDRESS=1400 Remington St.\, Fort C
 ollins\, CO\, 80523\, United States;X-APPLE-RADIUS=100;X-TITLE=Griffin Con
 cert Hall\, University Center for the Arts:geo:40.5692704,-105.07477849999
 998
END:VEVENT
BEGIN:VTIMEZONE
TZID:America/Denver
X-LIC-LOCATION:America/Denver
BEGIN:DAYLIGHT
DTSTART:20170312T030000
TZOFFSETFROM:-0700
TZOFFSETTO:-0600
TZNAME:MDT
END:DAYLIGHT
END:VTIMEZONE
END:VCALENDAR