BEGIN:VCALENDAR
VERSION:2.0
PRODID:-//wp-events-plugin.com//7.2.3.1//EN
TZID:America/Denver
X-WR-TIMEZONE:America/Denver
BEGIN:VEVENT
UID:17-17292@music.colostate.edu
DTSTART;TZID=America/Denver:20221003T150000
DTEND;TZID=America/Denver:20221003T155000
DTSTAMP:20220925T180314Z
URL:https://music.colostate.edu/events/2022-bassoon-workshops/
SUMMARY:Fall 2022 Bassoon Workshops
DESCRIPTION:Are you a band director interested in understanding the bassoon
  better and helping your students more easily? Do you have new bassoonists
  who have switched from another instrument and are looking for some help?\
 n\nGrab a bassoon and join the FREE virtual bassoon transfer workshops w
 ith Cayla Bellamy\, assistant professor of bassoon at CSU!\n\nSessions tak
 e place in September and October may be taken in any order\, at any time\,
  and repeated as many times as helpful.\n\nNote that some sessions are des
 igned specifically with teachers in mind\, some are geared just for the be
 ginning or intermediate level bassoonist\, and some are open to anyone.\n\
 nTopics will include (but not be limited to!)\n\n 	understanding fingering
 s\n 	the break: half hole and venting techniques\n 	reeds: purchasing and 
 adjusting\n 	intonation\n 	vibrato\n 	equipment needs and repair\n 	open q
 uestion and answer time\n\nIn each session\, we will relate these special 
 topics to bassoon fundamentals of posture\, breathing\, and embouchure for
 mation.\n\nDATES AND TOPICS:\n\n 	Wednesday\, September 28\, 7-7:50am MDT:
  Open Question &amp\; Answer\n 	Monday\, October 3\, 3-3:50 p.m. MDT: Th
 e Break: Half Hole and Venting (for teachers!)\n 	Thursday\, October 13\, 
 8-8:50 a.m. MDT: Open Question &amp\; Answer\n 	Wednesday\, October 19\, 
 7-7:50 a.m. MDT: Reed Purchasing and Adjusting (for teachers!)\n 	Thursda
 y\, October 20\, 4-4:50 p.m. MDT: Reed Purchasing and Adjusting (for stud
 ents!)\n 	Wednesday\, October 25\, 3-3:50 p.m. MDT: Open Question &amp\; 
 Answer\n\nREGISTER HERE!
ATTACH;FMTTYPE=image/jpeg:https://www.libarts.colostate.edu/music/wp-conte
 nt/uploads/sites/17/2020/09/CaylaBellamyAllState.jpg
CATEGORIES:College of Liberal Arts Featured Events
END:VEVENT
BEGIN:VTIMEZONE
TZID:America/Denver
X-LIC-LOCATION:America/Denver
BEGIN:DAYLIGHT
DTSTART:20220313T030000
TZOFFSETFROM:-0700
TZOFFSETTO:-0600
TZNAME:MDT
END:DAYLIGHT
END:VTIMEZONE
END:VCALENDAR