BEGIN:VCALENDAR
VERSION:2.0
PRODID:-//wp-events-plugin.com//7.2.3.1//EN
TZID:America/Denver
X-WR-TIMEZONE:America/Denver
BEGIN:VEVENT
UID:17-14016@music.colostate.edu
DTSTART;TZID=America/Denver:20190619T150000
DTEND;TZID=America/Denver:20190619T160000
DTSTAMP:20190618T154940Z
URL:https://music.colostate.edu/events/2019-canadian-brass-masterclass/
SUMMARY:2019 Canadian Brass Masterclass
DESCRIPTION:We welcome the world-famous Canadian Brass to campus for a fun 
 and intensive masterclass just ahead of their evening concert with Joel Ba
 con (organ) as part of CSU Organ Week. Canadian Brass will share their ide
 as and perspectives on performance\, air and sound production\, listening 
 and communicating with one another and the audience\, and connecting with 
 the music. The masterclass concludes with an audience Q&amp\;A and a short
  performance. Contact: Joel.Bacon@colostate.edu
ATTACH;FMTTYPE=image/jpeg:https://www.libarts.colostate.edu/music/wp-conte
 nt/uploads/sites/17/2019/03/Canadian-Brass.jpeg
CATEGORIES:College of Liberal Arts Featured Events
LOCATION:Griffin Concert Hall\, University Center for the Arts\, 1400 Remin
 gton St.\, Fort Collins\, CO\, 80523\, United States
GEO:40.5692704;-105.07477849999998
X-APPLE-STRUCTURED-LOCATION;VALUE=URI;X-ADDRESS=1400 Remington St.\, Fort C
 ollins\, CO\, 80523\, United States;X-APPLE-RADIUS=100;X-TITLE=Griffin Con
 cert Hall\, University Center for the Arts:geo:40.5692704,-105.07477849999
 998
END:VEVENT
BEGIN:VTIMEZONE
TZID:America/Denver
X-LIC-LOCATION:America/Denver
BEGIN:DAYLIGHT
DTSTART:20190310T030000
TZOFFSETFROM:-0700
TZOFFSETTO:-0600
TZNAME:MDT
END:DAYLIGHT
END:VTIMEZONE
END:VCALENDAR