BEGIN:VCALENDAR
VERSION:2.0
PRODID:-//wp-events-plugin.com//7.2.3.1//EN
TZID:America/Denver
X-WR-TIMEZONE:America/Denver
BEGIN:VEVENT
UID:17-11125@music.colostate.edu
DTSTART;TZID=America/Denver:20170225T193000
DTEND;TZID=America/Denver:20170225T210000
DTSTAMP:20161221T215029Z
URL:https://music.colostate.edu/events/2017-singer-year-competition/
SUMMARY:2017 Singer of the Year Competition
DESCRIPTION:This popular annual competition features CSU’s top undergradu
 ate vocal students competing for over $50\,000 in scholarship monies inclu
 ding the top Singer of the Year Award\, the Charles and Reta Ralph Undergr
 aduate Scholarship\, the Most Improved Award\, and the James McDonald Memo
 rial Scholarship. The awards are based on the students’ vocal performanc
 e and on progress toward their degree.
ATTACH;FMTTYPE=image/jpeg:https://www.libarts.colostate.edu/music/wp-conte
 nt/uploads/sites/17/2016/04/SOY-Ingrid-Johnson-Headshot-e1461078705711.jpg
LOCATION:Organ Recital Hall\, University Center for the Arts\, 1400 Remingo
 n St.\, Fort Collins\, CO\, 80524\, United States
GEO:40.5692704;-105.07477849999998
X-APPLE-STRUCTURED-LOCATION;VALUE=URI;X-ADDRESS=1400 Remingon St.\, Fort Co
 llins\, CO\, 80524\, United States;X-APPLE-RADIUS=100;X-TITLE=Organ Recita
 l Hall\, University Center for the Arts:geo:40.5692704,-105.07477849999998
END:VEVENT
BEGIN:VTIMEZONE
TZID:America/Denver
X-LIC-LOCATION:America/Denver
BEGIN:STANDARD
DTSTART:20161106T010000
TZOFFSETFROM:-0600
TZOFFSETTO:-0700
TZNAME:MST
END:STANDARD
END:VTIMEZONE
END:VCALENDAR