BEGIN:VCALENDAR
VERSION:2.0
PRODID:-//wp-events-plugin.com//7.2.3.1//EN
TZID:America/Denver
X-WR-TIMEZONE:America/Denver
BEGIN:VEVENT
UID:17-11115@music.colostate.edu
DTSTART;TZID=America/Denver:20170211T160000
DTEND;TZID=America/Denver:20170211T200000
DTSTAMP:20200728T004235Z
URL:https://music.colostate.edu/events/2017-colorado-state-orchestra/
SUMMARY:2017 Colorado All-State Orchestra
DESCRIPTION:This annual event features top instrumentalists from around the
  state. Concerts are ticketed. Information: www.coloradoallstateorchestra.
 org\n\nPhilharmonic Orchestra\, 4 p.m.\; Symphonic Orchestra\, 6 p.m.
ATTACH;FMTTYPE=image/jpeg:https://www.libarts.colostate.edu/music/wp-conte
 nt/uploads/sites/17/2016/12/02.11.17-All-State-Orchestra.jpg
LOCATION:Griffin Concert Hall\, University Center for the Arts\, 1400 Remin
 gton St.\, Fort Collins\, CO\, 80523\, United States
GEO:40.5692704;-105.07477849999998
X-APPLE-STRUCTURED-LOCATION;VALUE=URI;X-ADDRESS=1400 Remington St.\, Fort C
 ollins\, CO\, 80523\, United States;X-APPLE-RADIUS=100;X-TITLE=Griffin Con
 cert Hall\, University Center for the Arts:geo:40.5692704,-105.07477849999
 998
END:VEVENT
BEGIN:VTIMEZONE
TZID:America/Denver
X-LIC-LOCATION:America/Denver
BEGIN:STANDARD
DTSTART:20161106T010000
TZOFFSETFROM:-0600
TZOFFSETTO:-0700
TZNAME:MST
END:STANDARD
END:VTIMEZONE
END:VCALENDAR