BEGIN:VCALENDAR
VERSION:2.0
PRODID:-//wp-events-plugin.com//7.2.3.1//EN
TZID:America/Denver
X-WR-TIMEZONE:America/Denver
BEGIN:VEVENT
UID:17-7031@music.colostate.edu
DTSTART;TZID=America/Denver:20161203T190000
DTEND;TZID=America/Denver:20161203T210000
DTSTAMP:20161108T184532Z
URL:https://music.colostate.edu/events/2016-holiday-spectacular-2/
SUMMARY:2016 Holiday Spectacular
DESCRIPTION:Kick off the holiday season with our family-friendly and wildly
  popular annual presentation! Featuring performances from CSU ensembles an
 d other special guests\, this charming evening of traditional\, secular\, 
 and sacred holiday music is a celebration of community\, and includes some
 thing for all ages to enjoy. The Holiday Spectacular is a fundraising even
 t with proceeds benefiting CSU Music.
ATTACH;FMTTYPE=image/jpeg:https://www.libarts.colostate.edu/music/wp-conte
 nt/uploads/sites/17/2016/06/12.1.16-Holiday-Spectacular-1.jpg
LOCATION:Griffin Concert Hall\, University Center for the Arts\, 1400 Remin
 gton St.\, Fort Collins\, CO\, 80523\, United States
GEO:40.5692704;-105.07477849999998
X-APPLE-STRUCTURED-LOCATION;VALUE=URI;X-ADDRESS=1400 Remington St.\, Fort C
 ollins\, CO\, 80523\, United States;X-APPLE-RADIUS=100;X-TITLE=Griffin Con
 cert Hall\, University Center for the Arts:geo:40.5692704,-105.07477849999
 998
END:VEVENT
BEGIN:VTIMEZONE
TZID:America/Denver
X-LIC-LOCATION:America/Denver
BEGIN:STANDARD
DTSTART:20161106T010000
TZOFFSETFROM:-0600
TZOFFSETTO:-0700
TZNAME:MST
END:STANDARD
END:VTIMEZONE
END:VCALENDAR