BEGIN:VCALENDAR
VERSION:2.0
PRODID:-//wp-events-plugin.com//7.2.3.1//EN
TZID:America/Denver
X-WR-TIMEZONE:America/Denver
BEGIN:VEVENT
UID:17-3297@music.colostate.edu
DTSTART;TZID=America/Denver:20150609T193000
DTEND;TZID=America/Denver:20150609T210000
DTSTAMP:20200529T171733Z
URL:https://music.colostate.edu/events/19413/
SUMMARY:2015 Organ Week: Organ Fireworks!
DESCRIPTION:Featuring Joyce Jones\, Joyce Jones is one of the most recogniz
 ed and beloved concert organists in America\; Ken Cowan\, one of North Ame
 rica’s finest concert organists\; with violinist Lisa Shihoten.
ATTACH;FMTTYPE=image/jpeg:https://www.libarts.colostate.edu/music/wp-conte
 nt/uploads/sites/17/2015/04/578x384.jpg
LOCATION:First Presbyterian Church\, 531 S. College Ave.\, Fort Collins\, C
 O\, 80524\, Larimer\, United States
GEO:40.5805894;-105.07755600000002
X-APPLE-STRUCTURED-LOCATION;VALUE=URI;X-ADDRESS=531 S. College Ave.\, Fort 
 Collins\, CO\, 80524\, Larimer\, United States;X-APPLE-RADIUS=100;X-TITLE=
 First Presbyterian Church:geo:40.5805894,-105.07755600000002
END:VEVENT
BEGIN:VTIMEZONE
TZID:America/Denver
X-LIC-LOCATION:America/Denver
BEGIN:DAYLIGHT
DTSTART:20150308T030000
TZOFFSETFROM:-0700
TZOFFSETTO:-0600
TZNAME:MDT
END:DAYLIGHT
END:VTIMEZONE
END:VCALENDAR